BEGIN:VCALENDAR
VERSION:2.0
PRODID:-//ZContent.net//ZapCalLib 1.0//EN
CALSCALE:GREGORIAN
METHOD:PUBLISH
BEGIN:VEVENT
SUMMARY:Prix Gisèle Halimi 2025 | Un concours d'éloquence pour dénoncer 
 le sexisme par le verbe
DTSTART:20250210T200000
DTEND:20250210T230000
UID:2026-04-24-05-35-13-0-@calendar.boell.de
DTSTAMP:20260424T033513
DESCRIPTION:▶ Siehe Veranstaltungsbeschreibung – 
END:VEVENT
END:VCALENDAR
