BEGIN:VCALENDAR
VERSION:2.0
PRODID:-//ZContent.net//ZapCalLib 1.0//EN
CALSCALE:GREGORIAN
METHOD:PUBLISH
BEGIN:VEVENT
SUMMARY:Rencontres des pensées écologistes de Cluny
DTSTART:20251009T080000
DTEND:20251012T190000
UID:2026-04-21-10-24-59-0-@calendar.boell.de
DTSTAMP:20260421T082459
DESCRIPTION:▶ Siehe Veranstaltungsbeschreibung – Heinrich-Böll-Stiftun
 g Paris - Frankreich | Italien
END:VEVENT
END:VCALENDAR
