BEGIN:VCALENDAR
VERSION:2.0
PRODID:-//ZContent.net//ZapCalLib 1.0//EN
CALSCALE:GREGORIAN
METHOD:PUBLISH
BEGIN:VEVENT
SUMMARY:Ciné-débat de la Revue K: SABRA (1933)
DTSTART:20251202T200000
DTEND:20251202T223000
UID:2026-04-19-14-38-43-0-@calendar.boell.de
DTSTAMP:20260419T123843
DESCRIPTION:▶ Siehe Veranstaltungsbeschreibung – Paris – 
END:VEVENT
END:VCALENDAR
