BEGIN:VCALENDAR
VERSION:2.0
PRODID:-//ZContent.net//ZapCalLib 1.0//EN
CALSCALE:GREGORIAN
METHOD:PUBLISH
BEGIN:VEVENT
SUMMARY:Clima, povertà e politiche: sistemi alimentari in Francia, Germani
 a e Italia
DTSTART:20240928T150000
DTEND:20240928T160000
UID:2026-04-24-12-09-12-0-@calendar.boell.de
DTSTAMP:20260424T100912
DESCRIPTION:▶ Siehe Veranstaltungsbeschreibung – Heinrich-Böll-Stiftun
 g Paris - Frankreich | Italien
END:VEVENT
END:VCALENDAR
