BEGIN:VCALENDAR
VERSION:2.0
PRODID:-//ZContent.net//ZapCalLib 1.0//EN
CALSCALE:GREGORIAN
METHOD:PUBLISH
BEGIN:VEVENT
SUMMARY:Earth Day Med 2025 Palermo
DTSTART:20250407T090000
DTEND:20250413T180000
UID:2026-04-24-04-10-10-0-@calendar.boell.de
DTSTAMP:20260424T021010
DESCRIPTION:▶ Siehe Veranstaltungsbeschreibung – Italien – Heinrich-B
 öll-Stiftung Paris - Frankreich | Italien
END:VEVENT
END:VCALENDAR
