BEGIN:VCALENDAR
VERSION:2.0
PRODID:-//ZContent.net//ZapCalLib 1.0//EN
CALSCALE:GREGORIAN
METHOD:PUBLISH
BEGIN:VEVENT
SUMMARY:Strategy Workshop
DTSTART:20250416T100000
DTEND:20250416T170000
UID:2026-04-24-08-25-43-0-@calendar.boell.de
DTSTAMP:20260424T062543
DESCRIPTION:▶ Siehe Veranstaltungsbeschreibung – 
END:VEVENT
END:VCALENDAR
