BEGIN:VCALENDAR
VERSION:2.0
PRODID:-//ZContent.net//ZapCalLib 1.0//EN
CALSCALE:GREGORIAN
METHOD:PUBLISH
BEGIN:VEVENT
SUMMARY:EU Regulation on Palm Oil in Biofuel Policy and Supply Chain Risks
DTSTART:20251112T150000
DTEND:20251112T170000
UID:2026-04-23-18-13-19-0-@calendar.boell.de
DTSTAMP:20260423T161319
DESCRIPTION:▶ Online-Veranstaltung – Seoul – Heinrich-Böll-Stiftung 
 - Seoul
END:VEVENT
END:VCALENDAR
