BEGIN:VCALENDAR
VERSION:2.0
PRODID:-//ZContent.net//ZapCalLib 1.0//EN
CALSCALE:GREGORIAN
METHOD:PUBLISH
BEGIN:VEVENT
SUMMARY:Świat pod lupą. Warszawskie Spotkania Międzynarodowe
DTSTART:20201020T160000
DTEND:20201105T173000
UID:2026-04-24-08-02-17-0-@calendar.boell.de
DTSTAMP:20260424T060217
DESCRIPTION:▶ Siehe Veranstaltungsbeschreibung – 
END:VEVENT
END:VCALENDAR
