BEGIN:VCALENDAR
VERSION:2.0
PRODID:-//ZContent.net//ZapCalLib 1.0//EN
CALSCALE:GREGORIAN
METHOD:PUBLISH
BEGIN:VEVENT
SUMMARY:AI na traktory? | Debata
DTSTART:20220612T170000
DTEND:20220612T190000
UID:2026-04-21-15-49-03-0-@calendar.boell.de
DTSTAMP:20260421T134903
DESCRIPTION:▶ Siehe Veranstaltungsbeschreibung – 
END:VEVENT
END:VCALENDAR
