BEGIN:VCALENDAR
VERSION:2.0
PRODID:-//ZContent.net//ZapCalLib 1.0//EN
CALSCALE:GREGORIAN
METHOD:PUBLISH
BEGIN:VEVENT
SUMMARY:Ukraina pod lupą | edycja specjalna Świata pod lupą. Warszawskic
 h Spotkań Międzynarodowych
DTSTART:20221017T140000
DTEND:20221018T133000
UID:2026-04-24-03-24-59-0-@calendar.boell.de
DTSTAMP:20260424T012459
DESCRIPTION:▶ Siehe Veranstaltungsbeschreibung – 
END:VEVENT
END:VCALENDAR
