BEGIN:VCALENDAR
VERSION:2.0
PRODID:-//ZContent.net//ZapCalLib 1.0//EN
CALSCALE:GREGORIAN
METHOD:PUBLISH
BEGIN:VEVENT
SUMMARY:Spółdzielcza farma miejska | Spotkanie
DTSTART:20230308T180000
DTEND:20230308T203100
UID:2026-04-23-09-18-36-0-@calendar.boell.de
DTSTAMP:20260423T071836
DESCRIPTION:▶ Siehe Veranstaltungsbeschreibung – 
END:VEVENT
END:VCALENDAR
