BEGIN:VCALENDAR
VERSION:2.0
PRODID:-//ZContent.net//ZapCalLib 1.0//EN
CALSCALE:GREGORIAN
METHOD:PUBLISH
BEGIN:VEVENT
SUMMARY:CzujeMY KLIMAT  | Wystawa czasowa
DTSTART:20250425T110000
DTEND:20250831T200000
UID:2026-04-19-18-43-55-0-@calendar.boell.de
DTSTAMP:20260419T164355
DESCRIPTION:
END:VEVENT
END:VCALENDAR
