BEGIN:VCALENDAR
VERSION:2.0
PRODID:-//ZContent.net//ZapCalLib 1.0//EN
CALSCALE:GREGORIAN
METHOD:PUBLISH
BEGIN:VEVENT
SUMMARY:Gleba i przyjaciele | Program publiczny towarzyszący wystawie 
DTSTART:20250925T180000
DTEND:20251023T193000
UID:2026-04-20-11-03-26-0-@calendar.boell.de
DTSTAMP:20260420T090326
DESCRIPTION:▶ Siehe Veranstaltungsbeschreibung – Externe Veranstaltung
END:VEVENT
END:VCALENDAR
