BEGIN:VCALENDAR
VERSION:2.0
PRODID:-//ZContent.net//ZapCalLib 1.0//EN
CALSCALE:GREGORIAN
METHOD:PUBLISH
BEGIN:VEVENT
SUMMARY:Kongres Regeneracja! | IV kongres ekonomiczny o Twojej przyszłośc
 i
DTSTART:20250905T100000
DTEND:20250906T180000
UID:2026-04-22-12-22-19-0-@calendar.boell.de
DTSTAMP:20260422T102219
DESCRIPTION:▶ Siehe Veranstaltungsbeschreibung – 
END:VEVENT
END:VCALENDAR
