BEGIN:VCALENDAR
VERSION:2.0
PRODID:-//ZContent.net//ZapCalLib 1.0//EN
CALSCALE:GREGORIAN
METHOD:PUBLISH
BEGIN:VEVENT
SUMMARY:Green Fest 2019
DTSTART:20191015T200000
DTEND:20191018T200000
UID:2026-04-24-09-42-07-0-@calendar.boell.de
DTSTAMP:20260424T074207
DESCRIPTION:▶ Siehe Veranstaltungsbeschreibung – 
END:VEVENT
END:VCALENDAR
