BEGIN:VCALENDAR
VERSION:2.0
PRODID:-//ZContent.net//ZapCalLib 1.0//EN
CALSCALE:GREGORIAN
METHOD:PUBLISH
BEGIN:VEVENT
SUMMARY:Şiddetin Sosyolojik ve Kültürel Nedenleri  | Konferans
DTSTART:20190525T140000
DTEND:20190525T180000
UID:2026-04-24-02-47-52-0-@calendar.boell.de
DTSTAMP:20260424T004752
DESCRIPTION:
END:VEVENT
END:VCALENDAR
