BEGIN:VCALENDAR
VERSION:2.0
PRODID:-//ZContent.net//ZapCalLib 1.0//EN
CALSCALE:GREGORIAN
METHOD:PUBLISH
BEGIN:VEVENT
SUMMARY:Küresel Yönetişim ve Uluslararası İşbirliğinin Geleceği | G
 lobal Akademi Konuşmaları'nın üçüncü bölümü 
DTSTART:20200810T194500
DTEND:20200810T210000
UID:2026-04-19-18-43-37-0-@calendar.boell.de
DTSTAMP:20260419T164337
DESCRIPTION:▶ Siehe Veranstaltungsbeschreibung – 
END:VEVENT
END:VCALENDAR
