BEGIN:VCALENDAR
VERSION:2.0
PRODID:-//ZContent.net//ZapCalLib 1.0//EN
CALSCALE:GREGORIAN
METHOD:PUBLISH
BEGIN:VEVENT
SUMMARY:Kaos ve politika–Joseph Beuys´dan Peng!Kollektiv´e Performans s
 anatçıları politikayı sanata nasıl dahil ettiler? | Ahu Antmen, Peng!
  Kollektif ten  Jean Peters ile sohbette
DTSTART:20210602T200000
DTEND:20210602T210000
UID:2026-04-21-15-22-55-0-@calendar.boell.de
DTSTAMP:20260421T132255
DESCRIPTION:
END:VEVENT
END:VCALENDAR
