BEGIN:VCALENDAR
VERSION:2.0
PRODID:-//ZContent.net//ZapCalLib 1.0//EN
CALSCALE:GREGORIAN
METHOD:PUBLISH
BEGIN:VEVENT
SUMMARY:Konstantinopolis’ten Yeni İstanbul’a feminist mekan, sanat, di
 reniş | Konferans Duyurusu: Dijital Konferans Serisi 
DTSTART:20210909T083345
DTEND:20211024T093345
UID:2026-04-19-21-02-24-0-@calendar.boell.de
DTSTAMP:20260419T190224
DESCRIPTION:▶ Siehe Veranstaltungsbeschreibung – 
END:VEVENT
END:VCALENDAR
