BEGIN:VCALENDAR
VERSION:2.0
PRODID:-//ZContent.net//ZapCalLib 1.0//EN
CALSCALE:GREGORIAN
METHOD:PUBLISH
BEGIN:VEVENT
SUMMARY:Yeşil Mutabakatın Ticari Boyutu | Toplantı
DTSTART:20211103T143000
DTEND:20211103T170000
UID:2026-04-20-01-05-42-0-@calendar.boell.de
DTSTAMP:20260419T230542
DESCRIPTION:▶ Siehe Veranstaltungsbeschreibung – 
END:VEVENT
END:VCALENDAR
