BEGIN:VCALENDAR
VERSION:2.0
PRODID:-//ZContent.net//ZapCalLib 1.0//EN
CALSCALE:GREGORIAN
METHOD:PUBLISH
BEGIN:VEVENT
SUMMARY:Київ — місто для/без держави: істори
 о-урбаністичний воркшоп
DTSTART:20190912T100000
DTEND:20190913T190000
UID:2026-04-22-07-47-28-0-@calendar.boell.de
DTSTAMP:20260422T054728
DESCRIPTION:
END:VEVENT
END:VCALENDAR
