BEGIN:VCALENDAR
VERSION:2.0
PRODID:-//ZContent.net//ZapCalLib 1.0//EN
CALSCALE:GREGORIAN
METHOD:PUBLISH
BEGIN:VEVENT
SUMMARY:Онлайн-семінар «Ринок вирішить? Житл
 о»
DTSTART:20200514T150000
DTEND:20200514T170000
UID:2026-04-21-19-14-40-0-@calendar.boell.de
DTSTAMP:20260421T171440
DESCRIPTION:▶ Siehe Veranstaltungsbeschreibung – 
END:VEVENT
END:VCALENDAR
