BEGIN:VCALENDAR
VERSION:2.0
PRODID:-//ZContent.net//ZapCalLib 1.0//EN
CALSCALE:GREGORIAN
METHOD:PUBLISH
BEGIN:VEVENT
SUMMARY:Ринок вирішить? Публічний простір мі
 ст
DTSTART:20200528T160000
DTEND:20200528T180000
UID:2026-04-22-00-47-02-0-@calendar.boell.de
DTSTAMP:20260421T224702
DESCRIPTION:▶ Siehe Veranstaltungsbeschreibung – 
END:VEVENT
END:VCALENDAR
