BEGIN:VCALENDAR
VERSION:2.0
PRODID:-//ZContent.net//ZapCalLib 1.0//EN
CALSCALE:GREGORIAN
METHOD:PUBLISH
BEGIN:VEVENT
SUMMARY:Вечірка Українського урбаністичног
  форуму
DTSTART:20200619T150000
DTEND:20200619T190000
UID:2026-04-22-22-55-10-0-@calendar.boell.de
DTSTAMP:20260422T205510
DESCRIPTION:▶ Siehe Veranstaltungsbeschreibung – 
END:VEVENT
END:VCALENDAR
