BEGIN:VCALENDAR
VERSION:2.0
PRODID:-//ZContent.net//ZapCalLib 1.0//EN
CALSCALE:GREGORIAN
METHOD:PUBLISH
BEGIN:VEVENT
SUMMARY:Як застосувати 4-й енергопакет ЄС для
  розвитку малої ВДЕ-генерації в Україні?
DTSTART:20200930T110000
DTEND:20200930T120000
UID:2026-04-22-06-58-25-0-@calendar.boell.de
DTSTAMP:20260422T045825
DESCRIPTION:▶ Siehe Veranstaltungsbeschreibung – 
END:VEVENT
END:VCALENDAR
