BEGIN:VCALENDAR
VERSION:2.0
PRODID:-//ZContent.net//ZapCalLib 1.0//EN
CALSCALE:GREGORIAN
METHOD:PUBLISH
BEGIN:VEVENT
SUMMARY:Право на місто у «креативному місті»
 . Прогулянка у Львові
DTSTART:20210605T110000
DTEND:20210605T140000
UID:2026-04-25-15-04-08-0-@calendar.boell.de
DTSTAMP:20260425T130408
DESCRIPTION:▶ Siehe Veranstaltungsbeschreibung – Heinrich-Böll-Stiftun
 g Kiew - Ukraine
END:VEVENT
END:VCALENDAR
