BEGIN:VCALENDAR
VERSION:2.0
PRODID:-//ZContent.net//ZapCalLib 1.0//EN
CALSCALE:GREGORIAN
METHOD:PUBLISH
BEGIN:VEVENT
SUMMARY:Що несе кліматична політика та НВВ2 д
 ля місцевого розвитку
DTSTART:20210614T120000
DTEND:20210614T140000
UID:2026-04-22-19-31-23-0-@calendar.boell.de
DTSTAMP:20260422T173123
DESCRIPTION:▶ Siehe Veranstaltungsbeschreibung – Heinrich-Böll-Stiftun
 g Kiew - Ukraine
END:VEVENT
END:VCALENDAR
