BEGIN:VCALENDAR
VERSION:2.0
PRODID:-//ZContent.net//ZapCalLib 1.0//EN
CALSCALE:GREGORIAN
METHOD:PUBLISH
BEGIN:VEVENT
SUMMARY:Енергія змін 2021: Взаємодій
DTSTART:20211029T090000
DTEND:20211030T180000
UID:2026-04-21-12-46-02-0-@calendar.boell.de
DTSTAMP:20260421T104602
DESCRIPTION:▶ Siehe Veranstaltungsbeschreibung – Heinrich-Böll-Stiftun
 g Kiew - Ukraine
END:VEVENT
END:VCALENDAR
