BEGIN:VCALENDAR
VERSION:2.0
PRODID:-//ZContent.net//ZapCalLib 1.0//EN
CALSCALE:GREGORIAN
METHOD:PUBLISH
BEGIN:VEVENT
SUMMARY:Як бути екоактивіст_кою і не втомлюв
 тися
DTSTART:20211130T170000
DTEND:20211130T183000
UID:2026-04-24-02-47-26-0-@calendar.boell.de
DTSTAMP:20260424T004726
DESCRIPTION:▶ Siehe Veranstaltungsbeschreibung – Heinrich-Böll-Stiftun
 g Kiew - Ukraine
END:VEVENT
END:VCALENDAR
