BEGIN:VCALENDAR
VERSION:2.0
PRODID:-//ZContent.net//ZapCalLib 1.0//EN
CALSCALE:GREGORIAN
METHOD:PUBLISH
BEGIN:VEVENT
SUMMARY:Von einer dynamischen Zivilgesellschaft zu einer Zivilgesellschaft 
 im Krieg | Perspektiven unserer ukrainischen Partnerorganisationen   
DTSTART:20220504T190000
DTEND:20220504T203000
UID:2026-04-24-02-47-56-0-@calendar.boell.de
DTSTAMP:20260424T004756
DESCRIPTION:▶ Online-Veranstaltung – Landesstiftung Mecklenburg-Vorpomm
 ern
END:VEVENT
END:VCALENDAR
