BEGIN:VCALENDAR
VERSION:2.0
PRODID:-//ZContent.net//ZapCalLib 1.0//EN
CALSCALE:GREGORIAN
METHOD:PUBLISH
BEGIN:VEVENT
SUMMARY: "Що не так з планами будівництва дев'
 яти нових атомних енергоблоків?"
DTSTART:20230505T103000
DTEND:20230505T113000
UID:2026-04-21-10-25-57-0-@calendar.boell.de
DTSTAMP:20260421T082557
DESCRIPTION:▶ Siehe Veranstaltungsbeschreibung – 
END:VEVENT
END:VCALENDAR
