BEGIN:VCALENDAR
VERSION:2.0
PRODID:-//ZContent.net//ZapCalLib 1.0//EN
CALSCALE:GREGORIAN
METHOD:PUBLISH
BEGIN:VEVENT
SUMMARY:Встановлення сонячних електростанц
 й у громадах: обговорення неврегульован
 их питань
DTSTART:20230622T110000
DTEND:20230622T123000
UID:2026-04-26-06-15-25-0-@calendar.boell.de
DTSTAMP:20260426T041525
DESCRIPTION:▶ Siehe Veranstaltungsbeschreibung – 
END:VEVENT
END:VCALENDAR
