BEGIN:VCALENDAR
VERSION:2.0
PRODID:-//ZContent.net//ZapCalLib 1.0//EN
CALSCALE:GREGORIAN
METHOD:PUBLISH
BEGIN:VEVENT
SUMMARY:International Development — погляд соціальної а
 тропології | З серії лекцій «Що ми знаєм
  про своє суспільство?»
DTSTART:20250612T180000
DTEND:20250612T193000
UID:2026-04-23-23-19-52-0-@calendar.boell.de
DTSTAMP:20260423T211952
DESCRIPTION:▶ Siehe Veranstaltungsbeschreibung – Kyiv – 
END:VEVENT
END:VCALENDAR
