BEGIN:VCALENDAR
VERSION:2.0
PRODID:-//ZContent.net//ZapCalLib 1.0//EN
CALSCALE:GREGORIAN
METHOD:PUBLISH
BEGIN:VEVENT
SUMMARY:Український урбаністичний форум 2025 |
  by Cedos
DTSTART:20250919T100000
DTEND:20250920T141852
UID:2026-04-22-01-38-40-0-@calendar.boell.de
DTSTAMP:20260421T233840
DESCRIPTION:▶ Siehe Veranstaltungsbeschreibung – 
END:VEVENT
END:VCALENDAR
