BEGIN:VCALENDAR
VERSION:2.0
PRODID:-//ZContent.net//ZapCalLib 1.0//EN
CALSCALE:GREGORIAN
METHOD:PUBLISH
BEGIN:VEVENT
SUMMARY:Zukunft Transatlantica | Entrepreneurs für Grüne Innovationen
DTSTART:20181031T120000
DTEND:20181031T200000
UID:2026-04-23-02-31-27-0-@calendar.boell.de
DTSTAMP:20260423T003127
DESCRIPTION:Heinrich-Böll-Stiftung - Bundesstiftung Berlin – Berlin – 
 Heinrich-Böll-Stiftung - Bundesstiftung Berlin
END:VEVENT
END:VCALENDAR
